Package: scmap Version: 1.28.0 Command: rm -rf scmap.buildbin-libdir && mkdir scmap.buildbin-libdir && /Users/biocbuild/BBS/utils/build-universal.sh scmap_1.28.0.tar.gz /Library/Frameworks/R.framework/Resources/bin/R scmap.buildbin-libdir StartedAt: 2025-01-31 13:38:51 -0500 (Fri, 31 Jan 2025) EndedAt: 2025-01-31 13:40:18 -0500 (Fri, 31 Jan 2025) EllapsedTime: 87.2 seconds RetCode: 0 Status: OK PackageFile: scmap_1.28.0.tgz PackageFileSize: 3.404 MiB