Package: scmap Version: 1.28.0 Command: /Library/Frameworks/R.framework/Resources/bin/R CMD build --keep-empty-dirs --no-resave-data scmap StartedAt: 2025-01-30 22:36:54 -0500 (Thu, 30 Jan 2025) EndedAt: 2025-01-30 22:39:45 -0500 (Thu, 30 Jan 2025) EllapsedTime: 171.2 seconds RetCode: 0 Status: OK PackageFile: scmap_1.28.0.tar.gz PackageFileSize: 2.252 MiB