Package: scmap Version: 1.28.0 Command: /Library/Frameworks/R.framework/Resources/bin/R CMD check --install=check:scmap.install-out.txt --library=/Library/Frameworks/R.framework/Resources/library --no-vignettes --timings scmap_1.28.0.tar.gz StartedAt: 2025-02-04 09:43:17 -0500 (Tue, 04 Feb 2025) EndedAt: 2025-02-04 09:49:54 -0500 (Tue, 04 Feb 2025) EllapsedTime: 396.9 seconds RetCode: 0 Status: OK CheckDir: scmap.Rcheck Warnings: 0