Package: scmap Version: 1.28.0 Command: /Library/Frameworks/R.framework/Resources/bin/R CMD INSTALL scmap StartedAt: 2025-02-03 15:27:07 -0500 (Mon, 03 Feb 2025) EndedAt: 2025-02-03 15:28:29 -0500 (Mon, 03 Feb 2025) EllapsedTime: 82.0 seconds RetCode: 0 Status: OK