Package: scmap Version: 1.28.0 Command: rm -rf scmap.buildbin-libdir && mkdir scmap.buildbin-libdir && F:\biocbuild\bbs-3.20-bioc\R\bin\R.exe CMD INSTALL --build --library=scmap.buildbin-libdir scmap_1.28.0.tar.gz StartedAt: 2025-02-04 09:27:50 -0500 (Tue, 04 Feb 2025) EndedAt: 2025-02-04 09:28:54 -0500 (Tue, 04 Feb 2025) EllapsedTime: 63.7 seconds RetCode: 0 Status: OK PackageFile: scmap_1.28.0.zip PackageFileSize: 3.376 MiB