Package: scmap Version: 1.28.0 Command: /home/biocbuild/R/R/bin/R CMD check --install=check:scmap.install-out.txt --library=/home/biocbuild/R/R/site-library --no-vignettes --timings scmap_1.28.0.tar.gz StartedAt: 2025-02-04 10:50:41 -0000 (Tue, 04 Feb 2025) EndedAt: 2025-02-04 10:54:01 -0000 (Tue, 04 Feb 2025) EllapsedTime: 200.2 seconds RetCode: 0 Status: OK CheckDir: scmap.Rcheck Warnings: 0