Package: scmeth Version: 1.26.0 Command: /Library/Frameworks/R.framework/Resources/bin/R CMD build --keep-empty-dirs --no-resave-data scmeth StartedAt: 2025-01-30 22:37:29 -0500 (Thu, 30 Jan 2025) EndedAt: 2025-01-30 22:41:16 -0500 (Thu, 30 Jan 2025) EllapsedTime: 227.4 seconds RetCode: 0 Status: OK PackageFile: scmeth_1.26.0.tar.gz PackageFileSize: 776.6 KiB