Package: scmeth Version: 1.26.0 Command: rm -rf scmeth.buildbin-libdir && mkdir scmeth.buildbin-libdir && F:\biocbuild\bbs-3.20-bioc\R\bin\R.exe CMD INSTALL --build --library=scmeth.buildbin-libdir scmeth_1.26.0.tar.gz StartedAt: 2025-01-31 09:33:46 -0500 (Fri, 31 Jan 2025) EndedAt: 2025-01-31 09:35:01 -0500 (Fri, 31 Jan 2025) EllapsedTime: 75.9 seconds RetCode: 0 Status: OK PackageFile: scmeth_1.26.0.zip PackageFileSize: 781.5 KiB