Package: scmeth Version: 1.26.0 Command: /home/biocbuild/R/R/bin/R CMD check --install=check:scmeth.install-out.txt --library=/home/biocbuild/R/R/site-library --no-vignettes --timings scmeth_1.26.0.tar.gz StartedAt: 2025-01-31 10:11:55 -0000 (Fri, 31 Jan 2025) EndedAt: 2025-01-31 10:19:01 -0000 (Fri, 31 Jan 2025) EllapsedTime: 425.3 seconds RetCode: 0 Status: OK CheckDir: scmeth.Rcheck Warnings: 0