Package: scmeth Version: 1.26.0 Command: /home/biocbuild/R/R/bin/R CMD INSTALL scmeth StartedAt: 2025-01-30 20:38:14 -0000 (Thu, 30 Jan 2025) EndedAt: 2025-01-30 20:39:06 -0000 (Thu, 30 Jan 2025) EllapsedTime: 52.0 seconds RetCode: 0 Status: OK