Package: scone Version: 1.30.0 Command: rm -rf scone.buildbin-libdir && mkdir scone.buildbin-libdir && /Users/biocbuild/BBS/utils/build-universal.sh scone_1.30.0.tar.gz /Library/Frameworks/R.framework/Resources/bin/R scone.buildbin-libdir StartedAt: 2025-02-12 16:55:57 -0500 (Wed, 12 Feb 2025) EndedAt: 2025-02-12 16:57:05 -0500 (Wed, 12 Feb 2025) EllapsedTime: 68.1 seconds RetCode: 0 Status: OK PackageFile: scone_1.30.0.tgz PackageFileSize: 2.084 MiB