Package: scone Version: 1.30.0 Command: /Library/Frameworks/R.framework/Resources/bin/R CMD check --install=check:scone.install-out.txt --library=/Library/Frameworks/R.framework/Resources/library --no-vignettes --timings scone_1.30.0.tar.gz StartedAt: 2025-02-05 09:21:10 -0500 (Wed, 05 Feb 2025) EndedAt: 2025-02-05 09:32:43 -0500 (Wed, 05 Feb 2025) EllapsedTime: 693.0 seconds RetCode: 0 Status: OK CheckDir: scone.Rcheck Warnings: 0