Package: scone Version: 1.30.0 Command: /Library/Frameworks/R.framework/Resources/bin/R CMD build --keep-empty-dirs --no-resave-data scone StartedAt: 2025-02-03 22:06:48 -0500 (Mon, 03 Feb 2025) EndedAt: 2025-02-03 22:12:53 -0500 (Mon, 03 Feb 2025) EllapsedTime: 364.6 seconds RetCode: 0 Status: OK PackageFile: scone_1.30.0.tar.gz PackageFileSize: 1.894 MiB