Package: scone Version: 1.30.0 Command: /Library/Frameworks/R.framework/Resources/bin/R CMD INSTALL scone StartedAt: 2025-02-03 16:18:05 -0500 (Mon, 03 Feb 2025) EndedAt: 2025-02-03 16:19:54 -0500 (Mon, 03 Feb 2025) EllapsedTime: 109.1 seconds RetCode: 0 Status: OK