Package: scone Version: 1.30.0 Command: rm -rf scone.buildbin-libdir && mkdir scone.buildbin-libdir && F:\biocbuild\bbs-3.20-bioc\R\bin\R.exe CMD INSTALL --build --library=scone.buildbin-libdir scone_1.30.0.tar.gz StartedAt: 2025-02-04 09:28:05 -0500 (Tue, 04 Feb 2025) EndedAt: 2025-02-04 09:29:25 -0500 (Tue, 04 Feb 2025) EllapsedTime: 80.0 seconds RetCode: 0 Status: OK PackageFile: scone_1.30.0.zip PackageFileSize: 1.013 MiB