Package: scone Version: 1.30.0 Command: /home/biocbuild/R/R/bin/R CMD build --keep-empty-dirs --no-resave-data scone StartedAt: 2025-02-11 02:22:50 -0000 (Tue, 11 Feb 2025) EndedAt: 2025-02-11 02:25:51 -0000 (Tue, 11 Feb 2025) EllapsedTime: 181.0 seconds RetCode: 0 Status: OK PackageFile: scone_1.30.0.tar.gz PackageFileSize: 1.05 MiB