Package: scoreInvHap Version: 1.28.0 Command: /Library/Frameworks/R.framework/Resources/bin/R CMD build --keep-empty-dirs --no-resave-data scoreInvHap StartedAt: 2025-02-04 07:39:40 -0500 (Tue, 04 Feb 2025) EndedAt: 2025-02-04 07:40:58 -0500 (Tue, 04 Feb 2025) EllapsedTime: 78.3 seconds RetCode: 0 Status: OK PackageFile: scoreInvHap_1.28.0.tar.gz PackageFileSize: 1.036 MiB