Package: scoreInvHap Version: 1.28.0 Command: /Library/Frameworks/R.framework/Resources/bin/R CMD INSTALL scoreInvHap StartedAt: 2025-02-03 17:29:48 -0500 (Mon, 03 Feb 2025) EndedAt: 2025-02-03 17:30:38 -0500 (Mon, 03 Feb 2025) EllapsedTime: 50.0 seconds RetCode: 0 Status: OK