Package: scoreInvHap Version: 1.28.0 Command: /Library/Frameworks/R.framework/Resources/bin/R CMD build --keep-empty-dirs --no-resave-data scoreInvHap StartedAt: 2024-11-19 18:35:01 -0500 (Tue, 19 Nov 2024) EndedAt: 2024-11-19 18:36:30 -0500 (Tue, 19 Nov 2024) EllapsedTime: 89.2 seconds RetCode: 0 Status: OK PackageFile: scoreInvHap_1.28.0.tar.gz PackageFileSize: 1.036 MiB