Package: scoreInvHap Version: 1.28.0 Command: /home/biocbuild/bbs-3.20-bioc/R/bin/R CMD build --keep-empty-dirs --no-resave-data --md5 scoreInvHap StartedAt: 2025-02-03 19:13:03 -0500 (Mon, 03 Feb 2025) EndedAt: 2025-02-03 19:14:01 -0500 (Mon, 03 Feb 2025) EllapsedTime: 58.1 seconds RetCode: 0 Status: OK PackageFile: scoreInvHap_1.28.0.tar.gz PackageFileSize: 1.075 MiB