Package: scoreInvHap Version: 1.28.0 Command: rm -rf scoreInvHap.buildbin-libdir && mkdir scoreInvHap.buildbin-libdir && F:\biocbuild\bbs-3.20-bioc\R\bin\R.exe CMD INSTALL --build --library=scoreInvHap.buildbin-libdir scoreInvHap_1.28.0.tar.gz StartedAt: 2025-02-04 09:28:12 -0500 (Tue, 04 Feb 2025) EndedAt: 2025-02-04 09:29:31 -0500 (Tue, 04 Feb 2025) EllapsedTime: 79.1 seconds RetCode: 0 Status: OK PackageFile: scoreInvHap_1.28.0.zip PackageFileSize: 1.511 MiB