Package: scoreInvHap Version: 1.28.0 Command: chmod a+r scoreInvHap -R && F:\biocbuild\bbs-3.20-bioc\R\bin\R.exe CMD build --keep-empty-dirs --no-resave-data scoreInvHap StartedAt: 2025-02-03 21:59:32 -0500 (Mon, 03 Feb 2025) EndedAt: 2025-02-03 22:01:13 -0500 (Mon, 03 Feb 2025) EllapsedTime: 100.6 seconds RetCode: 0 Status: OK PackageFile: scoreInvHap_1.28.0.tar.gz PackageFileSize: 1.022 MiB