Package: scp Version: 1.16.0 Command: /Library/Frameworks/R.framework/Resources/bin/R CMD build --keep-empty-dirs --no-resave-data scp StartedAt: 2025-02-04 07:40:53 -0500 (Tue, 04 Feb 2025) EndedAt: 2025-02-04 07:46:03 -0500 (Tue, 04 Feb 2025) EllapsedTime: 310.2 seconds RetCode: 0 Status: OK PackageFile: scp_1.16.0.tar.gz PackageFileSize: 8.841 MiB