Package: scp Version: 1.16.0 Command: /Library/Frameworks/R.framework/Resources/bin/R CMD check --install=check:scp.install-out.txt --library=/Library/Frameworks/R.framework/Resources/library --no-vignettes --timings scp_1.16.0.tar.gz StartedAt: 2025-02-12 08:44:22 -0500 (Wed, 12 Feb 2025) EndedAt: 2025-02-12 08:52:46 -0500 (Wed, 12 Feb 2025) EllapsedTime: 504.0 seconds RetCode: 1 Status: ERROR CheckDir: scp.Rcheck Warnings: NA