Package: scp Version: 1.16.0 Command: /home/biocbuild/bbs-3.20-bioc/R/bin/R CMD check --install=check:scp.install-out.txt --library=/home/biocbuild/bbs-3.20-bioc/R/site-library --timings scp_1.16.0.tar.gz StartedAt: 2025-02-04 02:16:53 -0500 (Tue, 04 Feb 2025) EndedAt: 2025-02-04 02:28:08 -0500 (Tue, 04 Feb 2025) EllapsedTime: 675.5 seconds RetCode: 0 Status: OK CheckDir: scp.Rcheck Warnings: 0