Package: scp Version: 1.16.0 Command: F:\biocbuild\bbs-3.20-bioc\R\bin\R.exe CMD check --no-multiarch --install=check:scp.install-out.txt --library=F:\biocbuild\bbs-3.20-bioc\R\library --no-vignettes --timings scp_1.16.0.tar.gz StartedAt: 2025-02-11 05:59:55 -0500 (Tue, 11 Feb 2025) EndedAt: 2025-02-11 06:08:53 -0500 (Tue, 11 Feb 2025) EllapsedTime: 538.1 seconds RetCode: 0 Status: OK CheckDir: scp.Rcheck Warnings: 0