Package: scp Version: 1.16.0 Command: /home/biocbuild/R/R/bin/R CMD build --keep-empty-dirs --no-resave-data scp StartedAt: 2025-02-04 02:46:35 -0000 (Tue, 04 Feb 2025) EndedAt: 2025-02-04 02:53:31 -0000 (Tue, 04 Feb 2025) EllapsedTime: 416.5 seconds RetCode: 0 Status: OK PackageFile: scp_1.16.0.tar.gz PackageFileSize: 7.324 MiB