Package: scran Version: 1.34.0 Command: /Library/Frameworks/R.framework/Resources/bin/R CMD build --keep-empty-dirs --no-resave-data scran StartedAt: 2025-02-11 07:42:08 -0500 (Tue, 11 Feb 2025) EndedAt: 2025-02-11 07:45:59 -0500 (Tue, 11 Feb 2025) EllapsedTime: 231.8 seconds RetCode: 0 Status: OK PackageFile: scran_1.34.0.tar.gz PackageFileSize: 1.857 MiB