Package: scran Version: 1.34.0 Command: /Library/Frameworks/R.framework/Resources/bin/R CMD INSTALL scran StartedAt: 2025-02-10 17:52:10 -0500 (Mon, 10 Feb 2025) EndedAt: 2025-02-10 17:53:25 -0500 (Mon, 10 Feb 2025) EllapsedTime: 74.5 seconds RetCode: 0 Status: OK