Package: scran Version: 1.34.0 Command: /Library/Frameworks/R.framework/Resources/bin/R CMD build --keep-empty-dirs --no-resave-data scran StartedAt: 2025-02-03 22:08:52 -0500 (Mon, 03 Feb 2025) EndedAt: 2025-02-03 22:15:45 -0500 (Mon, 03 Feb 2025) EllapsedTime: 412.4 seconds RetCode: 0 Status: OK PackageFile: scran_1.34.0.tar.gz PackageFileSize: 1.852 MiB