Package: scran Version: 1.34.0 Command: /home/biocbuild/bbs-3.20-bioc/R/bin/R CMD build --keep-empty-dirs --no-resave-data --md5 scran StartedAt: 2025-02-10 19:06:04 -0500 (Mon, 10 Feb 2025) EndedAt: 2025-02-10 19:09:16 -0500 (Mon, 10 Feb 2025) EllapsedTime: 192.2 seconds RetCode: 0 Status: OK PackageFile: scran_1.34.0.tar.gz PackageFileSize: 1.764 MiB