Package: scran Version: 1.34.0 Command: /home/biocbuild/bbs-3.20-bioc/R/bin/R CMD check --install=check:scran.install-out.txt --library=/home/biocbuild/bbs-3.20-bioc/R/site-library --timings scran_1.34.0.tar.gz StartedAt: 2025-02-11 02:08:55 -0500 (Tue, 11 Feb 2025) EndedAt: 2025-02-11 02:21:47 -0500 (Tue, 11 Feb 2025) EllapsedTime: 771.7 seconds RetCode: 0 Status: WARNINGS CheckDir: scran.Rcheck Warnings: 1