Package: scran Version: 1.34.0 Command: chmod a+r scran -R && F:\biocbuild\bbs-3.20-bioc\R\bin\R.exe CMD build --keep-empty-dirs --no-resave-data scran StartedAt: 2025-02-03 22:00:04 -0500 (Mon, 03 Feb 2025) EndedAt: 2025-02-03 22:04:47 -0500 (Mon, 03 Feb 2025) EllapsedTime: 283.0 seconds RetCode: 0 Status: OK PackageFile: scran_1.34.0.tar.gz PackageFileSize: 1.01 MiB