Package: scrapper Version: 1.0.3 Command: rm -rf scrapper.buildbin-libdir && mkdir scrapper.buildbin-libdir && /Users/biocbuild/BBS/utils/build-universal.sh scrapper_1.0.3.tar.gz /Library/Frameworks/R.framework/Resources/bin/R scrapper.buildbin-libdir StartedAt: 2025-02-05 17:43:27 -0500 (Wed, 05 Feb 2025) EndedAt: 2025-02-05 17:48:25 -0500 (Wed, 05 Feb 2025) EllapsedTime: 297.9 seconds RetCode: 0 Status: OK PackageFile: scrapper_1.0.3.tgz PackageFileSize: 1.397 MiB