Package: scrapper Version: 1.0.3 Command: /Library/Frameworks/R.framework/Resources/bin/R CMD build --keep-empty-dirs --no-resave-data scrapper StartedAt: 2025-02-04 07:46:55 -0500 (Tue, 04 Feb 2025) EndedAt: 2025-02-04 07:54:03 -0500 (Tue, 04 Feb 2025) EllapsedTime: 428.1 seconds RetCode: 0 Status: OK PackageFile: scrapper_1.0.3.tar.gz PackageFileSize: 652.4 KiB