Package: scrapper Version: 1.0.3 Command: /Library/Frameworks/R.framework/Resources/bin/R CMD INSTALL scrapper StartedAt: 2025-02-03 15:25:12 -0500 (Mon, 03 Feb 2025) EndedAt: 2025-02-03 15:29:41 -0500 (Mon, 03 Feb 2025) EllapsedTime: 268.8 seconds RetCode: 0 Status: OK