Package: scrapper Version: 1.0.3 Command: /Library/Frameworks/R.framework/Resources/bin/R CMD INSTALL scrapper StartedAt: 2025-01-30 15:21:08 -0500 (Thu, 30 Jan 2025) EndedAt: 2025-01-30 15:31:05 -0500 (Thu, 30 Jan 2025) EllapsedTime: 596.3 seconds RetCode: 0 Status: OK