Package: scrapper Version: 1.0.3 Command: rm -rf scrapper.buildbin-libdir && mkdir scrapper.buildbin-libdir && F:\biocbuild\bbs-3.20-bioc\R\bin\R.exe CMD INSTALL --build --library=scrapper.buildbin-libdir scrapper_1.0.3.tar.gz StartedAt: 2025-02-04 09:28:33 -0500 (Tue, 04 Feb 2025) EndedAt: 2025-02-04 09:34:19 -0500 (Tue, 04 Feb 2025) EllapsedTime: 346.3 seconds RetCode: 0 Status: OK PackageFile: scrapper_1.0.3.zip PackageFileSize: 1.46 MiB