Package: scrapper Version: 1.0.3 Command: F:\biocbuild\bbs-3.20-bioc\R\bin\R.exe CMD check --no-multiarch --install=check:scrapper.install-out.txt --library=F:\biocbuild\bbs-3.20-bioc\R\library --no-vignettes --timings scrapper_1.0.3.tar.gz StartedAt: 2025-01-31 06:16:34 -0500 (Fri, 31 Jan 2025) EndedAt: 2025-01-31 06:20:38 -0500 (Fri, 31 Jan 2025) EllapsedTime: 243.7 seconds RetCode: 0 Status: OK CheckDir: scrapper.Rcheck Warnings: 0