Package: scrapper Version: 1.0.3 Command: F:\biocbuild\bbs-3.20-bioc\R\bin\R.exe CMD INSTALL scrapper StartedAt: 2025-01-30 15:50:27 -0500 (Thu, 30 Jan 2025) EndedAt: 2025-01-30 15:55:48 -0500 (Thu, 30 Jan 2025) EllapsedTime: 321.7 seconds RetCode: 0 Status: OK