Package: scrapper Version: 1.0.3 Command: /home/biocbuild/R/R/bin/R CMD build --keep-empty-dirs --no-resave-data scrapper StartedAt: 2025-02-04 02:47:05 -0000 (Tue, 04 Feb 2025) EndedAt: 2025-02-04 02:58:45 -0000 (Tue, 04 Feb 2025) EllapsedTime: 700.0 seconds RetCode: 0 Status: OK PackageFile: scrapper_1.0.3.tar.gz PackageFileSize: 483.1 KiB