Package: screenCounter Version: 1.6.0 Command: rm -rf screenCounter.buildbin-libdir && mkdir screenCounter.buildbin-libdir && /Users/biocbuild/BBS/utils/build-universal.sh screenCounter_1.6.0.tar.gz /Library/Frameworks/R.framework/Resources/bin/R screenCounter.buildbin-libdir StartedAt: 2025-02-05 17:43:34 -0500 (Wed, 05 Feb 2025) EndedAt: 2025-02-05 17:45:02 -0500 (Wed, 05 Feb 2025) EllapsedTime: 88.5 seconds RetCode: 0 Status: OK PackageFile: screenCounter_1.6.0.tgz PackageFileSize: 526.7 KiB