Package: screenCounter Version: 1.6.0 Command: /Library/Frameworks/R.framework/Resources/bin/R CMD build --keep-empty-dirs --no-resave-data screenCounter StartedAt: 2025-02-04 07:49:57 -0500 (Tue, 04 Feb 2025) EndedAt: 2025-02-04 07:51:45 -0500 (Tue, 04 Feb 2025) EllapsedTime: 107.6 seconds RetCode: 0 Status: OK PackageFile: screenCounter_1.6.0.tar.gz PackageFileSize: 293.2 KiB