Package: screenCounter Version: 1.6.0 Command: rm -rf screenCounter.buildbin-libdir && mkdir screenCounter.buildbin-libdir && /Users/biocbuild/BBS/utils/build-universal.sh screenCounter_1.6.0.tar.gz /Library/Frameworks/R.framework/Resources/bin/R screenCounter.buildbin-libdir StartedAt: 2025-02-11 14:29:30 -0500 (Tue, 11 Feb 2025) EndedAt: 2025-02-11 14:32:57 -0500 (Tue, 11 Feb 2025) EllapsedTime: 206.4 seconds RetCode: 0 Status: OK PackageFile: screenCounter_1.6.0.tgz PackageFileSize: 539.6 KiB