Package: screenCounter Version: 1.6.0 Command: /Library/Frameworks/R.framework/Resources/bin/R CMD build --keep-empty-dirs --no-resave-data screenCounter StartedAt: 2025-02-03 22:09:41 -0500 (Mon, 03 Feb 2025) EndedAt: 2025-02-03 22:13:38 -0500 (Mon, 03 Feb 2025) EllapsedTime: 237.3 seconds RetCode: 0 Status: OK PackageFile: screenCounter_1.6.0.tar.gz PackageFileSize: 293.1 KiB