Package: screenCounter Version: 1.6.0 Command: /home/biocbuild/bbs-3.20-bioc/R/bin/R CMD build --keep-empty-dirs --no-resave-data --md5 screenCounter StartedAt: 2025-02-03 19:14:03 -0500 (Mon, 03 Feb 2025) EndedAt: 2025-02-03 19:15:46 -0500 (Mon, 03 Feb 2025) EllapsedTime: 103.1 seconds RetCode: 0 Status: OK PackageFile: screenCounter_1.6.0.tar.gz PackageFileSize: 296.2 KiB