Package: screenCounter Version: 1.6.0 Command: rm -rf screenCounter.buildbin-libdir && mkdir screenCounter.buildbin-libdir && F:\biocbuild\bbs-3.20-bioc\R\bin\R.exe CMD INSTALL --build --library=screenCounter.buildbin-libdir screenCounter_1.6.0.tar.gz StartedAt: 2025-02-04 09:28:46 -0500 (Tue, 04 Feb 2025) EndedAt: 2025-02-04 09:31:48 -0500 (Tue, 04 Feb 2025) EllapsedTime: 181.8 seconds RetCode: 0 Status: OK PackageFile: screenCounter_1.6.0.zip PackageFileSize: 866 KiB