Package: scruff Version: 1.24.0 Command: /Library/Frameworks/R.framework/Resources/bin/R CMD build --keep-empty-dirs --no-resave-data scruff StartedAt: 2025-02-04 07:53:22 -0500 (Tue, 04 Feb 2025) EndedAt: 2025-02-04 07:56:05 -0500 (Tue, 04 Feb 2025) EllapsedTime: 163.0 seconds RetCode: 0 Status: OK PackageFile: scruff_1.24.0.tar.gz PackageFileSize: 1.712 MiB