Package: scruff Version: 1.24.0 Command: /Library/Frameworks/R.framework/Resources/bin/R CMD build --keep-empty-dirs --no-resave-data scruff StartedAt: 2025-02-03 22:10:57 -0500 (Mon, 03 Feb 2025) EndedAt: 2025-02-03 22:15:23 -0500 (Mon, 03 Feb 2025) EllapsedTime: 266.1 seconds RetCode: 0 Status: OK PackageFile: scruff_1.24.0.tar.gz PackageFileSize: 1.71 MiB