Package: scruff Version: 1.24.0 Command: /Library/Frameworks/R.framework/Resources/bin/R CMD check --install=check:scruff.install-out.txt --library=/Library/Frameworks/R.framework/Resources/library --no-vignettes --timings scruff_1.24.0.tar.gz StartedAt: 2025-02-04 09:53:45 -0500 (Tue, 04 Feb 2025) EndedAt: 2025-02-04 10:08:11 -0500 (Tue, 04 Feb 2025) EllapsedTime: 866.1 seconds RetCode: 0 Status: OK CheckDir: scruff.Rcheck Warnings: 0